BEGIN:VCALENDAR
VERSION:2.0
PRODID:-//MD Diversity Programs//NONSGML Events//EN
CALSCALE:GREGORIAN
X-ORIGINAL-URL:https://mddiversity.wustl.edu/calendar/
X-WR-CALDESC:MD Diversity Programs - Events
BEGIN:VEVENT
UID:20240423T0400Z-1713844816.2906-EO-14534-1@172.23.128.18
STATUS:CONFIRMED
DTSTAMP:20260413T061653Z
CREATED:20240422T150100Z
LAST-MODIFIED:20240422T150100Z
DTSTART;TZID=America/Chicago:20240521T113000
DTEND;TZID=America/Chicago:20240521T163000
SUMMARY: Reframing: A Call to Inclusion
DESCRIPTION: An EMPOWERING half-day symposium designed to UPLIFT voices and
  CELEBRATE the diversity of experiences among individual with genetic\, phy
 sical\, behavioral\, or intellectual differences. Click here for more infor
 mation.
X-ALT-DESC;FMTTYPE=text/html: <p>An <strong>EMPOWERING</strong> half-day sy
 mposium designed to <strong>UPLIFT</strong> voices and <strong>CELEBRATE</s
 trong> the diversity of experiences among individual with genetic\, physica
 l\, behavioral\, or intellectual differences.</p><p>Click <a href="https://
 anesthesiology.wustl.edu/reframing-a-call-to-inclusion/">here</a> for more 
 information.</p>
LOCATION:Eric P. Newman Center
GEO:38.636891;-90.262391
ORGANIZER;CN="Joa":MAILTO:joareliz@wustl.edu
URL;VALUE=URI:https://mddiversity.wustl.edu/events/calendar/reframing-a-cal
 l-to-inclusion/
END:VEVENT
BEGIN:VTIMEZONE
TZID:America/Chicago
BEGIN:DAYLIGHT
TZOFFSETFROM:-0600
TZOFFSETTO:-0500
DTSTART:20240310T080000
TZNAME:CDT
END:DAYLIGHT
END:VTIMEZONE
END:VCALENDAR
