BEGIN:VCALENDAR
VERSION:2.0
PRODID:-//MD Diversity Programs//NONSGML Events//EN
CALSCALE:GREGORIAN
X-ORIGINAL-URL:https://mddiversity.wustl.edu/calendar/
X-WR-CALDESC:MD Diversity Programs - Events
BEGIN:VEVENT
UID:20160829T1937Z-1472499438.2501-EO-1349-1@172.21.70.58
STATUS:CONFIRMED
DTSTAMP:20260413T061702Z
CREATED:20070115T224644Z
LAST-MODIFIED:20160414T210351Z
DTSTART;VALUE=DATE:20070115
DTEND;VALUE=DATE:20070116
SUMMARY: 2007 Martin Luther King\, Jr. Celebration Lecture
DESCRIPTION: Guest speaker: Patricia J. Williams\nAuthor\, cultural comment
 ator and Professor of Law at Columbia University School of Law.
X-ALT-DESC;FMTTYPE=text/html: <p>Guest speaker: Patricia J. Williams<br />A
 uthor\, cultural commentator and Professor of Law at Columbia University Sc
 hool of Law.</p><p>Washington University School of Medicine\, the main camp
 us\, and the local community are invited to attend an evening lecture in ce
 lebration of the life and work of Dr. Martin Luther King\, Jr.</p>
ORGANIZER;CN="Brian":MAILTO:bmarston@wustl.edu
URL;VALUE=URI:https://mddiversity.wustl.edu/events/calendar/mlk-2007/
END:VEVENT
BEGIN:VTIMEZONE
TZID:America/Chicago
BEGIN:STANDARD
TZOFFSETFROM:-0500
TZOFFSETTO:-0600
DTSTART:20061029T070000
TZNAME:CST
END:STANDARD
END:VTIMEZONE
END:VCALENDAR
