BEGIN:VCALENDAR
VERSION:2.0
PRODID:-//MD Diversity Programs//NONSGML Events//EN
CALSCALE:GREGORIAN
X-ORIGINAL-URL:https://mddiversity.wustl.edu/calendar/
X-WR-CALDESC:MD Diversity Programs - Events
BEGIN:VEVENT
UID:20201120T1514Z-1605885247.0397-EO-8930-1@172.23.128.18
STATUS:CONFIRMED
DTSTAMP:20260420T085930Z
CREATED:20201116T174816Z
LAST-MODIFIED:20201116T174816Z
DTSTART;VALUE=DATE:20201116
DTEND;VALUE=DATE:20201121
SUMMARY: Diversity Week 2020
DESCRIPTION: The Office of Diversity\, Equity and Inclusion is excited  for
  this year’s campus-wide Diversity Week – Belonging: Connecting Through Cri
 sis – November 16-20\, 2020. It will feature a leader panel\, keynote addre
 ss by a local hero and an event honoring the life and legacy of Henrietta L
 acks and more! Belonging is a need. Like water […]
X-ALT-DESC;FMTTYPE=text/html: <p>The Office of Diversity\, Equity and Inclu
 sion is excited  for this year’s campus-wide <strong><a href="https://diver
 sity.med.wustl.edu/diversity-week-2020/">Diversity Week – Belonging: Connec
 ting Through Crisis</a></strong> – November 16-20\, 2020. It will feature a
  leader panel\, keynote address by a local hero and an event honoring the l
 ife and legacy of Henrietta Lacks and more!</p><p>Belonging is a need. Like
  water and food\, belonging is essential to our well-being. COVID-19 has fo
 rced most of us into isolation and separated us from our families\, friends
 \, and co-workers. Our connection to each other\, our sense of belonging\, 
 is our vaccination against isolation. Diversity week is a celebration of al
 l of you\, our health care heroes and all the community members who have ov
 ercome these challenges\, proving that we are stronger together. Please vis
 it the <strong><a href="https://diversity.med.wustl.edu/diversity-week-2020
 /">Diversity Week 2020 website </a></strong>to view event details and regis
 ter!</p><p>The week is a collaboration among BJC HealthCare and the Washing
 ton University Medical Campus partners – Washington University School of Me
 dicine\, the University of Health Sciences and Pharmacy\, and Goldfarb Scho
 ol of Nursing at Barnes-Jewish College.</p>
ORGANIZER;CN="Brian":MAILTO:bmarston@wustl.edu
URL;VALUE=URI:https://mddiversity.wustl.edu/events/calendar/diversity-week-
 2020/
END:VEVENT
BEGIN:VTIMEZONE
TZID:America/Chicago
BEGIN:STANDARD
TZOFFSETFROM:-0500
TZOFFSETTO:-0600
DTSTART:20201101T070000
TZNAME:CST
END:STANDARD
END:VTIMEZONE
END:VCALENDAR
