BEGIN:VCALENDAR
VERSION:2.0
PRODID:-//MD Diversity Programs//NONSGML Events//EN
CALSCALE:GREGORIAN
X-ORIGINAL-URL:https://mddiversity.wustl.edu/calendar/
X-WR-CALDESC:MD Diversity Programs - Events
BEGIN:VEVENT
UID:20251112T1939Z-1762976383.8361-EO-15427-1@10.73.9.3
STATUS:CONFIRMED
DTSTAMP:20260421T134216Z
CREATED:20251110T204557Z
LAST-MODIFIED:20251110T204557Z
DTSTART;TZID=America/Chicago:20260214T080000
DTEND;TZID=America/Chicago:20260214T130000
SUMMARY: 2026 Saturday Scholars Program Starts
X-ALT-DESC;FMTTYPE=text/html: 
ORGANIZER;CN="Joa":MAILTO:joareliz@wustl.edu
URL;VALUE=URI:https://mddiversity.wustl.edu/events/calendar/2026-saturday-s
 cholars-program-starts/
END:VEVENT
BEGIN:VTIMEZONE
TZID:America/Chicago
BEGIN:STANDARD
TZOFFSETFROM:-0500
TZOFFSETTO:-0600
DTSTART:20251102T070000
TZNAME:CST
END:STANDARD
END:VTIMEZONE
END:VCALENDAR
